BEGIN:VCALENDAR
VERSION:2.0
CALSCALE:GREGORIAN
BEGIN:VEVENT
URL:https://www.learndesk.us/class/6606029947142144/lesson/0d66533ace0ed3373d28f411b489642f?ref=outlook-calendar
SUMMARY:What is CSS?
DTSTART;TZID=America/Los_Angeles:20260423T190000
DTEND;TZID=America/Los_Angeles:20260423T200000
LOCATION:https://www.learndesk.us/class/6606029947142144/lesson/0d66533ace0ed3373d28f411b489642f?ref=outlook-calendar
DESCRIPTION: Let's start with the most important question first: What is CSS and why do we need it on our websites?

https://www.learndesk.us/class/6606029947142144/lesson/0d66533ace0ed3373d28f411b489642f?ref=outlook-calendar
STATUS:CONFIRMED
SEQUENCE:3
BEGIN:VALARM
TRIGGER:-PT10M
DESCRIPTION:Class Reminder
ACTION:DISPLAY
END:VALARM
END:VEVENT
END:VCALENDAR