BEGIN:VCALENDAR
VERSION:2.0
CALSCALE:GREGORIAN
BEGIN:VEVENT
URL:https://www.learndesk.us/class/6606029947142144/lesson/0cd824012e654a01f08727c5e8829b98?ref=outlook-calendar
SUMMARY:Understanding the Course Project Setup
DTSTART;TZID=America/Los_Angeles:20260422T190000
DTEND;TZID=America/Los_Angeles:20260422T200000
LOCATION:https://www.learndesk.us/class/6606029947142144/lesson/0cd824012e654a01f08727c5e8829b98?ref=outlook-calendar
DESCRIPTION: This is a hands-on course, so we will learn CSS in practice. Time to take a closer look at the starting setup for our course project.

https://www.learndesk.us/class/6606029947142144/lesson/0cd824012e654a01f08727c5e8829b98?ref=outlook-calendar
STATUS:CONFIRMED
SEQUENCE:3
BEGIN:VALARM
TRIGGER:-PT10M
DESCRIPTION:Class Reminder
ACTION:DISPLAY
END:VALARM
END:VEVENT
END:VCALENDAR