BEGIN:VCALENDAR
VERSION:2.0
CALSCALE:GREGORIAN
BEGIN:VEVENT
URL:https://www.learndesk.us/class/6606029947142144/lesson/0b718d66724b9717b7d5eb34055c6950?ref=outlook-calendar
SUMMARY:Understanding Font Faces and "font-style"
DTSTART;TZID=America/Los_Angeles:20260423T190000
DTEND;TZID=America/Los_Angeles:20260423T200000
LOCATION:https://www.learndesk.us/class/6606029947142144/lesson/0b718d66724b9717b7d5eb34055c6950?ref=outlook-calendar
DESCRIPTION: On google fonts we saw that we do not only have to add the font family but also a specific font face. Time to take a closer look at that.

https://www.learndesk.us/class/6606029947142144/lesson/0b718d66724b9717b7d5eb34055c6950?ref=outlook-calendar
STATUS:CONFIRMED
SEQUENCE:3
BEGIN:VALARM
TRIGGER:-PT10M
DESCRIPTION:Class Reminder
ACTION:DISPLAY
END:VALARM
END:VEVENT
END:VCALENDAR