BEGIN:VCALENDAR
VERSION:2.0
CALSCALE:GREGORIAN
BEGIN:VEVENT
URL:https://www.learndesk.us/class/6606029947142144/lesson/098859dfb1b8ec0d92de4f8e5d70fdd6?ref=outlook-calendar
SUMMARY:Comparing "flex-basis" vs "width" and "height"
DTSTART;TZID=America/Los_Angeles:20260425T190000
DTEND;TZID=America/Los_Angeles:20260425T200000
LOCATION:https://www.learndesk.us/class/6606029947142144/lesson/098859dfb1b8ec0d92de4f8e5d70fdd6?ref=outlook-calendar
DESCRIPTION: We know that we can define the width or the height of our elements, so what is "flex-basis" and which impact does it have on these two properties? Let's find an answer to these question in this lecture.

https://www.learndesk.us/class/6606029947142144/lesson/098859dfb1b8ec0d92de4f8e5d70fdd6?ref=outlook-calendar
STATUS:CONFIRMED
SEQUENCE:3
BEGIN:VALARM
TRIGGER:-PT10M
DESCRIPTION:Class Reminder
ACTION:DISPLAY
END:VALARM
END:VEVENT
END:VCALENDAR