BEGIN:VCALENDAR
VERSION:2.0
CALSCALE:GREGORIAN
BEGIN:VEVENT
URL:https://www.learndesk.us/class/6606029947142144/lesson/01186c8b8cd7242f319f522845b5222e?ref=outlook-calendar
SUMMARY:Transitions and "display"
DTSTART;TZID=America/Los_Angeles:20260424T190000
DTEND;TZID=America/Los_Angeles:20260424T200000
LOCATION:https://www.learndesk.us/class/6606029947142144/lesson/01186c8b8cd7242f319f522845b5222e?ref=outlook-calendar
DESCRIPTION: When adding CSS transitions, you can run into issues if you also use the display property to show and hide things. Learn more about that in this lecture.

https://www.learndesk.us/class/6606029947142144/lesson/01186c8b8cd7242f319f522845b5222e?ref=outlook-calendar
STATUS:CONFIRMED
SEQUENCE:3
BEGIN:VALARM
TRIGGER:-PT10M
DESCRIPTION:Class Reminder
ACTION:DISPLAY
END:VALARM
END:VEVENT
END:VCALENDAR