BEGIN:VCALENDAR
VERSION:2.0
CALSCALE:GREGORIAN
BEGIN:VEVENT
URL:https://www.learndesk.us/class/6606029947142144/css-the-complete-guide-flexbox-grid-and-sass?ref=outlook-calendar
SUMMARY:CSS: The Complete Guide: Flexbox, Grid and, Sass
DTSTART;TZID=America/Los_Angeles:20260422T190000
DTEND;TZID=America/Los_Angeles:20260422T200000
LOCATION:https://www.learndesk.us/class/6606029947142144/css-the-complete-guide-flexbox-grid-and-sass?ref=outlook-calendar
DESCRIPTION: 
Every web developer has to know CSS. CSS, short for cascading style sheets, is a "programming language" you use to turn your raw HTML pages into a really beautiful website. This course covers it all. We start at the very basics and gradually dive in deeper and deeper. 
We do this by showing you both practical examples and the theory behind them. Getting started with CSS might look easy, but they're actually is a lot of depth to CSS, so this course provides different "Tracks" or "Entry points" to exactly meet your demands and reflect your current knowledge level: 

The Basics Track: Start from scratch and learn CSS from the ground up. You start with lecture 1 and simply follow through to the end.
The Advanced Track: You already know the CSS basics, you know what selectors are and how it works, but you want to dive in deeper and learn some advanced features and usages.
The Expert Track: You got the advanced knowledge, too, but you want to dive into things like Flexbox, CSS Grid, CSS...

https://www.learndesk.us/class/6606029947142144/css-the-complete-guide-flexbox-grid-and-sass?ref=outlook-calendar
STATUS:CONFIRMED
SEQUENCE:3
BEGIN:VALARM
TRIGGER:-PT10M
DESCRIPTION:Class Reminder
ACTION:DISPLAY
END:VALARM
END:VEVENT
END:VCALENDAR