BEGIN:VCALENDAR
VERSION:2.0
CALSCALE:GREGORIAN
BEGIN:VEVENT
URL:https://www.learndesk.us/class/6600703449497600/lesson/d08de648a57ac6633a81074b1519c672?ref=outlook-calendar
SUMMARY:TIP #5 - Live Captions in Meetings
DTSTART;TZID=America/Los_Angeles:20260425T190000
DTEND;TZID=America/Los_Angeles:20260425T200000
LOCATION:https://www.learndesk.us/class/6600703449497600/lesson/d08de648a57ac6633a81074b1519c672?ref=outlook-calendar
DESCRIPTION: https://www.learndesk.us/class/6600703449497600/lesson/d08de648a57ac6633a81074b1519c672?ref=outlook-calendar
STATUS:CONFIRMED
SEQUENCE:3
BEGIN:VALARM
TRIGGER:-PT10M
DESCRIPTION:Class Reminder
ACTION:DISPLAY
END:VALARM
END:VEVENT
END:VCALENDAR