BEGIN:VCALENDAR
VERSION:2.0
CALSCALE:GREGORIAN
BEGIN:VEVENT
URL:https://www.learndesk.us/class/6600703449497600/lesson/54db799a9bf4c6c1203f466daf2c61e8?ref=outlook-calendar
SUMMARY:Top Microsoft Teams Tips
DTSTART;TZID=America/Los_Angeles:20260425T190000
DTEND;TZID=America/Los_Angeles:20260425T200000
LOCATION:https://www.learndesk.us/class/6600703449497600/lesson/54db799a9bf4c6c1203f466daf2c61e8?ref=outlook-calendar
DESCRIPTION: https://www.learndesk.us/class/6600703449497600/lesson/54db799a9bf4c6c1203f466daf2c61e8?ref=outlook-calendar
STATUS:CONFIRMED
SEQUENCE:3
BEGIN:VALARM
TRIGGER:-PT10M
DESCRIPTION:Class Reminder
ACTION:DISPLAY
END:VALARM
END:VEVENT
END:VCALENDAR