BEGIN:VCALENDAR
VERSION:2.0
CALSCALE:GREGORIAN
BEGIN:VEVENT
URL:https://www.learndesk.us/class/6600703449497600/lesson/2ae1426c0a5b3aeb6a62577de5edb3b4?ref=outlook-calendar
SUMMARY:Mastering Microsoft Teams
DTSTART;TZID=America/Los_Angeles:20260425T190000
DTEND;TZID=America/Los_Angeles:20260425T200000
LOCATION:https://www.learndesk.us/class/6600703449497600/lesson/2ae1426c0a5b3aeb6a62577de5edb3b4?ref=outlook-calendar
DESCRIPTION: https://www.learndesk.us/class/6600703449497600/lesson/2ae1426c0a5b3aeb6a62577de5edb3b4?ref=outlook-calendar
STATUS:CONFIRMED
SEQUENCE:3
BEGIN:VALARM
TRIGGER:-PT10M
DESCRIPTION:Class Reminder
ACTION:DISPLAY
END:VALARM
END:VEVENT
END:VCALENDAR