BEGIN:VCALENDAR
VERSION:2.0
CALSCALE:GREGORIAN
BEGIN:VEVENT
URL:https://www.learndesk.us/class/6600703449497600/lesson/21fa9c1d862d2558a6236d675823b080?ref=outlook-calendar
SUMMARY:TIP #4 - Connectors
DTSTART;TZID=America/Los_Angeles:20260425T190000
DTEND;TZID=America/Los_Angeles:20260425T200000
LOCATION:https://www.learndesk.us/class/6600703449497600/lesson/21fa9c1d862d2558a6236d675823b080?ref=outlook-calendar
DESCRIPTION: https://www.learndesk.us/class/6600703449497600/lesson/21fa9c1d862d2558a6236d675823b080?ref=outlook-calendar
STATUS:CONFIRMED
SEQUENCE:3
BEGIN:VALARM
TRIGGER:-PT10M
DESCRIPTION:Class Reminder
ACTION:DISPLAY
END:VALARM
END:VEVENT
END:VCALENDAR