BEGIN:VCALENDAR
VERSION:2.0
CALSCALE:GREGORIAN
BEGIN:VEVENT
URL:https://www.learndesk.us/class/6600703449497600/microsoft-teams-master-microsoft-teams-in-1-hour?ref=outlook-calendar
SUMMARY:Microsoft Teams: Master Microsoft Teams in 1 Hour
DTSTART;TZID=America/Los_Angeles:20260425T190000
DTEND;TZID=America/Los_Angeles:20260425T200000
LOCATION:https://www.learndesk.us/class/6600703449497600/microsoft-teams-master-microsoft-teams-in-1-hour?ref=outlook-calendar
DESCRIPTION: 
You’re just seconds away from leveraging Microsoft Teams that will make it possible for you to:

Increase your Microsoft Teams skills and knowledge within hours which will get you noticed by top management and prospective employers
Become more productive at using Microsoft Teams which will save you hours each day and eliminate stress at work
Use Microsoft Teams with confidence that will lead to greater opportunities like a higher salary and promotions

What will you learn in this course?

All the must-know features about Microsoft Teams
Working and collaborating with your colleagues remotely
Getting your team set up so they can work from home

Who should take this course?
If you want to quickly learn how to use Microsoft Teams so you can start working remotely with your work colleagues, then you are in the right place.
No matter if you are a Microsoft Teams user or never used Microsoft Teams before, you are sure to benefit from this quick course which goes through the must-know...

https://www.learndesk.us/class/6600703449497600/microsoft-teams-master-microsoft-teams-in-1-hour?ref=outlook-calendar
STATUS:CONFIRMED
SEQUENCE:3
BEGIN:VALARM
TRIGGER:-PT10M
DESCRIPTION:Class Reminder
ACTION:DISPLAY
END:VALARM
END:VEVENT
END:VCALENDAR