BEGIN:VCALENDAR
VERSION:2.0
CALSCALE:GREGORIAN
BEGIN:VEVENT
URL:https://www.learndesk.us/class/6600459018043392/lesson/ec17c7d33d0137407df15f5b738a0e74?ref=outlook-calendar
SUMMARY:Directions
DTSTART;TZID=America/Los_Angeles:20260423T190000
DTEND;TZID=America/Los_Angeles:20260423T200000
LOCATION:https://www.learndesk.us/class/6600459018043392/lesson/ec17c7d33d0137407df15f5b738a0e74?ref=outlook-calendar
DESCRIPTION: https://www.learndesk.us/class/6600459018043392/lesson/ec17c7d33d0137407df15f5b738a0e74?ref=outlook-calendar
STATUS:CONFIRMED
SEQUENCE:3
BEGIN:VALARM
TRIGGER:-PT10M
DESCRIPTION:Class Reminder
ACTION:DISPLAY
END:VALARM
END:VEVENT
END:VCALENDAR