BEGIN:VCALENDAR
VERSION:2.0
CALSCALE:GREGORIAN
BEGIN:VEVENT
URL:https://www.learndesk.us/class/6600459018043392/lesson/b888f40d9994f9efbfbbc43f98a6c8e9?ref=outlook-calendar
SUMMARY:Use Transitional Words and Apposition
DTSTART;TZID=America/Los_Angeles:20260425T190000
DTEND;TZID=America/Los_Angeles:20260425T200000
LOCATION:https://www.learndesk.us/class/6600459018043392/lesson/b888f40d9994f9efbfbbc43f98a6c8e9?ref=outlook-calendar
DESCRIPTION: https://www.learndesk.us/class/6600459018043392/lesson/b888f40d9994f9efbfbbc43f98a6c8e9?ref=outlook-calendar
STATUS:CONFIRMED
SEQUENCE:3
BEGIN:VALARM
TRIGGER:-PT10M
DESCRIPTION:Class Reminder
ACTION:DISPLAY
END:VALARM
END:VEVENT
END:VCALENDAR