BEGIN:VCALENDAR
VERSION:2.0
CALSCALE:GREGORIAN
BEGIN:VEVENT
URL:https://www.learndesk.us/class/6600459018043392/lesson/5960f36213d76c58b38112a89c4ba9b0?ref=outlook-calendar
SUMMARY:The Six Questions Mentor Exercise 3
DTSTART;TZID=America/Los_Angeles:20260423T190000
DTEND;TZID=America/Los_Angeles:20260423T200000
LOCATION:https://www.learndesk.us/class/6600459018043392/lesson/5960f36213d76c58b38112a89c4ba9b0?ref=outlook-calendar
DESCRIPTION: https://www.learndesk.us/class/6600459018043392/lesson/5960f36213d76c58b38112a89c4ba9b0?ref=outlook-calendar
STATUS:CONFIRMED
SEQUENCE:3
BEGIN:VALARM
TRIGGER:-PT10M
DESCRIPTION:Class Reminder
ACTION:DISPLAY
END:VALARM
END:VEVENT
END:VCALENDAR