BEGIN:VCALENDAR
VERSION:2.0
CALSCALE:GREGORIAN
BEGIN:VEVENT
URL:https://www.learndesk.us/class/6600459018043392/lesson/5059f43f917e828e52b07877877238d1?ref=outlook-calendar
SUMMARY:Pivotal Words Mentor Exercise 1
DTSTART;TZID=America/Los_Angeles:20260423T190000
DTEND;TZID=America/Los_Angeles:20260423T200000
LOCATION:https://www.learndesk.us/class/6600459018043392/lesson/5059f43f917e828e52b07877877238d1?ref=outlook-calendar
DESCRIPTION: https://www.learndesk.us/class/6600459018043392/lesson/5059f43f917e828e52b07877877238d1?ref=outlook-calendar
STATUS:CONFIRMED
SEQUENCE:3
BEGIN:VALARM
TRIGGER:-PT10M
DESCRIPTION:Class Reminder
ACTION:DISPLAY
END:VALARM
END:VEVENT
END:VCALENDAR