BEGIN:VCALENDAR
VERSION:2.0
CALSCALE:GREGORIAN
BEGIN:VEVENT
URL:https://www.learndesk.us/class/6600459018043392/lesson/3cf2a50b180137a2f401e0230c41a89b?ref=outlook-calendar
SUMMARY:The Six Questions Mentor Exercise 2
DTSTART;TZID=America/Los_Angeles:20260425T190000
DTEND;TZID=America/Los_Angeles:20260425T200000
LOCATION:https://www.learndesk.us/class/6600459018043392/lesson/3cf2a50b180137a2f401e0230c41a89b?ref=outlook-calendar
DESCRIPTION: https://www.learndesk.us/class/6600459018043392/lesson/3cf2a50b180137a2f401e0230c41a89b?ref=outlook-calendar
STATUS:CONFIRMED
SEQUENCE:3
BEGIN:VALARM
TRIGGER:-PT10M
DESCRIPTION:Class Reminder
ACTION:DISPLAY
END:VALARM
END:VEVENT
END:VCALENDAR