BEGIN:VCALENDAR
VERSION:2.0
CALSCALE:GREGORIAN
BEGIN:VEVENT
URL:https://www.learndesk.us/class/6586707916881920/lesson/fbf175c75fed2b48d79a88568ec70ae1?ref=outlook-calendar
SUMMARY:Video - Overview of the Microsoft Word 2016 Ribbon
DTSTART;TZID=America/Los_Angeles:20260421T190000
DTEND;TZID=America/Los_Angeles:20260421T200000
LOCATION:https://www.learndesk.us/class/6586707916881920/lesson/fbf175c75fed2b48d79a88568ec70ae1?ref=outlook-calendar
DESCRIPTION: In this short video presentation, you will be introduced to the Microsoft Word 2016 Ribbon.

https://www.learndesk.us/class/6586707916881920/lesson/fbf175c75fed2b48d79a88568ec70ae1?ref=outlook-calendar
STATUS:CONFIRMED
SEQUENCE:3
BEGIN:VALARM
TRIGGER:-PT10M
DESCRIPTION:Class Reminder
ACTION:DISPLAY
END:VALARM
END:VEVENT
END:VCALENDAR