BEGIN:VCALENDAR
VERSION:2.0
CALSCALE:GREGORIAN
BEGIN:VEVENT
URL:https://www.learndesk.us/class/6586707916881920/lesson/fb7001b28b40533cf6339820caecc354?ref=outlook-calendar
SUMMARY:Inserting Objects in Word 2016
DTSTART;TZID=America/Los_Angeles:20260421T190000
DTEND;TZID=America/Los_Angeles:20260421T200000
LOCATION:https://www.learndesk.us/class/6586707916881920/lesson/fb7001b28b40533cf6339820caecc354?ref=outlook-calendar
DESCRIPTION: In this section, you will learn how to insert data and objects into Using Word 2016.

https://www.learndesk.us/class/6586707916881920/lesson/fb7001b28b40533cf6339820caecc354?ref=outlook-calendar
STATUS:CONFIRMED
SEQUENCE:3
BEGIN:VALARM
TRIGGER:-PT10M
DESCRIPTION:Class Reminder
ACTION:DISPLAY
END:VALARM
END:VEVENT
END:VCALENDAR