BEGIN:VCALENDAR
VERSION:2.0
CALSCALE:GREGORIAN
BEGIN:VEVENT
URL:https://www.learndesk.us/class/6586707916881920/lesson/fa30d93f134bb74c5e17553e4e5ae3b0?ref=outlook-calendar
SUMMARY:Video - Using the New Undo feature in Word 2016
DTSTART;TZID=America/Los_Angeles:20260421T190000
DTEND;TZID=America/Los_Angeles:20260421T200000
LOCATION:https://www.learndesk.us/class/6586707916881920/lesson/fa30d93f134bb74c5e17553e4e5ae3b0?ref=outlook-calendar
DESCRIPTION: In this short video, you will learn how how to make the most of the new undo feature in Microsoft Word 2016.

https://www.learndesk.us/class/6586707916881920/lesson/fa30d93f134bb74c5e17553e4e5ae3b0?ref=outlook-calendar
STATUS:CONFIRMED
SEQUENCE:3
BEGIN:VALARM
TRIGGER:-PT10M
DESCRIPTION:Class Reminder
ACTION:DISPLAY
END:VALARM
END:VEVENT
END:VCALENDAR