BEGIN:VCALENDAR
VERSION:2.0
CALSCALE:GREGORIAN
BEGIN:VEVENT
URL:https://www.learndesk.us/class/6586707916881920/lesson/ef97f1d73c6c4733ec286353983d17e4?ref=outlook-calendar
SUMMARY:Video - Inspecting and Protecting Documents
DTSTART;TZID=America/Los_Angeles:20260421T190000
DTEND;TZID=America/Los_Angeles:20260421T200000
LOCATION:https://www.learndesk.us/class/6586707916881920/lesson/ef97f1d73c6c4733ec286353983d17e4?ref=outlook-calendar
DESCRIPTION: In this short video presentation, you will learn the basics of inspecting and protecting documents in Word 2016.

https://www.learndesk.us/class/6586707916881920/lesson/ef97f1d73c6c4733ec286353983d17e4?ref=outlook-calendar
STATUS:CONFIRMED
SEQUENCE:3
BEGIN:VALARM
TRIGGER:-PT10M
DESCRIPTION:Class Reminder
ACTION:DISPLAY
END:VALARM
END:VEVENT
END:VCALENDAR