BEGIN:VCALENDAR
VERSION:2.0
CALSCALE:GREGORIAN
BEGIN:VEVENT
URL:https://www.learndesk.us/class/6586707916881920/lesson/e88a3b4aca78175d299b0ef1e4351a1f?ref=outlook-calendar
SUMMARY:Video - Write Equations in Word 2016
DTSTART;TZID=America/Los_Angeles:20260425T190000
DTEND;TZID=America/Los_Angeles:20260425T200000
LOCATION:https://www.learndesk.us/class/6586707916881920/lesson/e88a3b4aca78175d299b0ef1e4351a1f?ref=outlook-calendar
DESCRIPTION: In this short video presentation, you will learn how to write equations in Word 2016. Learn how to enter equations from a template to customize, enter them from scratch or write them with the mouse or finger and the computer will convert them for you.

https://www.learndesk.us/class/6586707916881920/lesson/e88a3b4aca78175d299b0ef1e4351a1f?ref=outlook-calendar
STATUS:CONFIRMED
SEQUENCE:3
BEGIN:VALARM
TRIGGER:-PT10M
DESCRIPTION:Class Reminder
ACTION:DISPLAY
END:VALARM
END:VEVENT
END:VCALENDAR