BEGIN:VCALENDAR
VERSION:2.0
CALSCALE:GREGORIAN
BEGIN:VEVENT
URL:https://www.learndesk.us/class/6586707916881920/lesson/e1e8c993457fe31db776a28885fce07a?ref=outlook-calendar
SUMMARY:Video - Use a Different Header for Each Page in Microsoft Word 2016
DTSTART;TZID=America/Los_Angeles:20260421T190000
DTEND;TZID=America/Los_Angeles:20260421T200000
LOCATION:https://www.learndesk.us/class/6586707916881920/lesson/e1e8c993457fe31db776a28885fce07a?ref=outlook-calendar
DESCRIPTION: In this short video presentation, you will learn how to how to use different headers on the pages of your Microsoft Word 2016 document.

https://www.learndesk.us/class/6586707916881920/lesson/e1e8c993457fe31db776a28885fce07a?ref=outlook-calendar
STATUS:CONFIRMED
SEQUENCE:3
BEGIN:VALARM
TRIGGER:-PT10M
DESCRIPTION:Class Reminder
ACTION:DISPLAY
END:VALARM
END:VEVENT
END:VCALENDAR