BEGIN:VCALENDAR
VERSION:2.0
CALSCALE:GREGORIAN
BEGIN:VEVENT
URL:https://www.learndesk.us/class/6586707916881920/lesson/b6e4f30e6f9a739fe762b83081d0b1d8?ref=outlook-calendar
SUMMARY:Advanced Features
DTSTART;TZID=America/Los_Angeles:20260421T190000
DTEND;TZID=America/Los_Angeles:20260421T200000
LOCATION:https://www.learndesk.us/class/6586707916881920/lesson/b6e4f30e6f9a739fe762b83081d0b1d8?ref=outlook-calendar
DESCRIPTION: In this section, you will learn some of the more advanced features of Microsoft word 2016

https://www.learndesk.us/class/6586707916881920/lesson/b6e4f30e6f9a739fe762b83081d0b1d8?ref=outlook-calendar
STATUS:CONFIRMED
SEQUENCE:3
BEGIN:VALARM
TRIGGER:-PT10M
DESCRIPTION:Class Reminder
ACTION:DISPLAY
END:VALARM
END:VEVENT
END:VCALENDAR