BEGIN:VCALENDAR
VERSION:2.0
CALSCALE:GREGORIAN
BEGIN:VEVENT
URL:https://www.learndesk.us/class/6586707916881920/lesson/b501f2cb7eceb761ea33e4cba19681ee?ref=outlook-calendar
SUMMARY:Video - Create a cover page in Word 2016
DTSTART;TZID=America/Los_Angeles:20260425T190000
DTEND;TZID=America/Los_Angeles:20260425T200000
LOCATION:https://www.learndesk.us/class/6586707916881920/lesson/b501f2cb7eceb761ea33e4cba19681ee?ref=outlook-calendar
DESCRIPTION: In this short video presentation, you will learn how to create a cover page for your document or project in Word 2016.

https://www.learndesk.us/class/6586707916881920/lesson/b501f2cb7eceb761ea33e4cba19681ee?ref=outlook-calendar
STATUS:CONFIRMED
SEQUENCE:3
BEGIN:VALARM
TRIGGER:-PT10M
DESCRIPTION:Class Reminder
ACTION:DISPLAY
END:VALARM
END:VEVENT
END:VCALENDAR