BEGIN:VCALENDAR
VERSION:2.0
CALSCALE:GREGORIAN
BEGIN:VEVENT
URL:https://www.learndesk.us/class/6586707916881920/lesson/aa9d00178389e06fbf42fdb12f3bc2fb?ref=outlook-calendar
SUMMARY:Video - Using SmartArt for Graphic Design
DTSTART;TZID=America/Los_Angeles:20260421T190000
DTEND;TZID=America/Los_Angeles:20260421T200000
LOCATION:https://www.learndesk.us/class/6586707916881920/lesson/aa9d00178389e06fbf42fdb12f3bc2fb?ref=outlook-calendar
DESCRIPTION: In this short video presentation, you will learn how o use the graphic art feature in Microsoft word 2016.

https://www.learndesk.us/class/6586707916881920/lesson/aa9d00178389e06fbf42fdb12f3bc2fb?ref=outlook-calendar
STATUS:CONFIRMED
SEQUENCE:3
BEGIN:VALARM
TRIGGER:-PT10M
DESCRIPTION:Class Reminder
ACTION:DISPLAY
END:VALARM
END:VEVENT
END:VCALENDAR