BEGIN:VCALENDAR
VERSION:2.0
CALSCALE:GREGORIAN
BEGIN:VEVENT
URL:https://www.learndesk.us/class/6586707916881920/lesson/a81d9f679c0877d3585f32bb655de116?ref=outlook-calendar
SUMMARY:Microsoft Word for Students
DTSTART;TZID=America/Los_Angeles:20260421T190000
DTEND;TZID=America/Los_Angeles:20260421T200000
LOCATION:https://www.learndesk.us/class/6586707916881920/lesson/a81d9f679c0877d3585f32bb655de116?ref=outlook-calendar
DESCRIPTION: In this section, you will learn how to use Word 2016 effectively as a student.

https://www.learndesk.us/class/6586707916881920/lesson/a81d9f679c0877d3585f32bb655de116?ref=outlook-calendar
STATUS:CONFIRMED
SEQUENCE:3
BEGIN:VALARM
TRIGGER:-PT10M
DESCRIPTION:Class Reminder
ACTION:DISPLAY
END:VALARM
END:VEVENT
END:VCALENDAR