BEGIN:VCALENDAR
VERSION:2.0
CALSCALE:GREGORIAN
BEGIN:VEVENT
URL:https://www.learndesk.us/class/6586707916881920/lesson/92d316db85c565ee3ea4de65504c2017?ref=outlook-calendar
SUMMARY:Video - Add page Numbers to an Existing Header or Footer
DTSTART;TZID=America/Los_Angeles:20260421T190000
DTEND;TZID=America/Los_Angeles:20260421T200000
LOCATION:https://www.learndesk.us/class/6586707916881920/lesson/92d316db85c565ee3ea4de65504c2017?ref=outlook-calendar
DESCRIPTION: In this short video presentation, you will learn how to add a page number to an existing header or footer. If your document already has a text header or footer (such as a logo, running head or chapter name) and you want to add page numbers, you'll need to use Quick Parts tool with field codes. If you try to add page numbers to an existing header or footer by using Insert > Page Number, your existing text will be replaced by page numbers.

https://www.learndesk.us/class/6586707916881920/lesson/92d316db85c565ee3ea4de65504c2017?ref=outlook-calendar
STATUS:CONFIRMED
SEQUENCE:3
BEGIN:VALARM
TRIGGER:-PT10M
DESCRIPTION:Class Reminder
ACTION:DISPLAY
END:VALARM
END:VEVENT
END:VCALENDAR