BEGIN:VCALENDAR
VERSION:2.0
CALSCALE:GREGORIAN
BEGIN:VEVENT
URL:https://www.learndesk.us/class/6586707916881920/lesson/8a6e68c4c0b9ac44ac6e972ecf409302?ref=outlook-calendar
SUMMARY:Video - Insert/embed an Excel Spreadsheet in word 2016
DTSTART;TZID=America/Los_Angeles:20260421T190000
DTEND;TZID=America/Los_Angeles:20260421T200000
LOCATION:https://www.learndesk.us/class/6586707916881920/lesson/8a6e68c4c0b9ac44ac6e972ecf409302?ref=outlook-calendar
DESCRIPTION: In this short video presentation, you will learn how to embed an Excel spreadsheet inside of a Microsoft Word 2016 document.

https://www.learndesk.us/class/6586707916881920/lesson/8a6e68c4c0b9ac44ac6e972ecf409302?ref=outlook-calendar
STATUS:CONFIRMED
SEQUENCE:3
BEGIN:VALARM
TRIGGER:-PT10M
DESCRIPTION:Class Reminder
ACTION:DISPLAY
END:VALARM
END:VEVENT
END:VCALENDAR