BEGIN:VCALENDAR
VERSION:2.0
CALSCALE:GREGORIAN
BEGIN:VEVENT
URL:https://www.learndesk.us/class/6586707916881920/lesson/8605fb111a3c0a810380e4659852c183?ref=outlook-calendar
SUMMARY:Video - Word Experinced an Error Trying to Open the file
DTSTART;TZID=America/Los_Angeles:20260425T190000
DTEND;TZID=America/Los_Angeles:20260425T200000
LOCATION:https://www.learndesk.us/class/6586707916881920/lesson/8605fb111a3c0a810380e4659852c183?ref=outlook-calendar
DESCRIPTION: In this short video presentation, you will learn how to open a file received from a remote site.

https://support.microsoft.com/en-us/help/2749199/how-to-resolve-the-problem-word-experienced-an-error-trying-to-open-th

https://www.learndesk.us/class/6586707916881920/lesson/8605fb111a3c0a810380e4659852c183?ref=outlook-calendar
STATUS:CONFIRMED
SEQUENCE:3
BEGIN:VALARM
TRIGGER:-PT10M
DESCRIPTION:Class Reminder
ACTION:DISPLAY
END:VALARM
END:VEVENT
END:VCALENDAR