BEGIN:VCALENDAR
VERSION:2.0
CALSCALE:GREGORIAN
BEGIN:VEVENT
URL:https://www.learndesk.us/class/6586707916881920/lesson/83480d8b9f8380ddb70888ae7e4dde2d?ref=outlook-calendar
SUMMARY:Troubleshooting Word 2016
DTSTART;TZID=America/Los_Angeles:20260421T190000
DTEND;TZID=America/Los_Angeles:20260421T200000
LOCATION:https://www.learndesk.us/class/6586707916881920/lesson/83480d8b9f8380ddb70888ae7e4dde2d?ref=outlook-calendar
DESCRIPTION: In this section, you will learn how to troubleshoot some of the most common issues with Microsoft Word 2016.

https://www.learndesk.us/class/6586707916881920/lesson/83480d8b9f8380ddb70888ae7e4dde2d?ref=outlook-calendar
STATUS:CONFIRMED
SEQUENCE:3
BEGIN:VALARM
TRIGGER:-PT10M
DESCRIPTION:Class Reminder
ACTION:DISPLAY
END:VALARM
END:VEVENT
END:VCALENDAR