BEGIN:VCALENDAR
VERSION:2.0
CALSCALE:GREGORIAN
BEGIN:VEVENT
URL:https://www.learndesk.us/class/6586707916881920/lesson/7083de199c86b0fce9ad9117e3188cba?ref=outlook-calendar
SUMMARY:Video - Adding Grammarly to Your Microsoft Word 2016 Program
DTSTART;TZID=America/Los_Angeles:20260421T190000
DTEND;TZID=America/Los_Angeles:20260421T200000
LOCATION:https://www.learndesk.us/class/6586707916881920/lesson/7083de199c86b0fce9ad9117e3188cba?ref=outlook-calendar
DESCRIPTION: In this short video presentation, you will learn how to install and use the Grammy add-on for Word 2016 to check your work for grammatical and spelling errors.

https://www.learndesk.us/class/6586707916881920/lesson/7083de199c86b0fce9ad9117e3188cba?ref=outlook-calendar
STATUS:CONFIRMED
SEQUENCE:3
BEGIN:VALARM
TRIGGER:-PT10M
DESCRIPTION:Class Reminder
ACTION:DISPLAY
END:VALARM
END:VEVENT
END:VCALENDAR