BEGIN:VCALENDAR
VERSION:2.0
CALSCALE:GREGORIAN
BEGIN:VEVENT
URL:https://www.learndesk.us/class/6586707916881920/lesson/6eee3a10033c64cbab7a31aa7655a9f1?ref=outlook-calendar
SUMMARY:Video - Set the Default Font in Word
DTSTART;TZID=America/Los_Angeles:20260421T190000
DTEND;TZID=America/Los_Angeles:20260421T200000
LOCATION:https://www.learndesk.us/class/6586707916881920/lesson/6eee3a10033c64cbab7a31aa7655a9f1?ref=outlook-calendar
DESCRIPTION: In this short video presentation, you will learn how to change and set the default font and font size in Word 2016.

https://www.learndesk.us/class/6586707916881920/lesson/6eee3a10033c64cbab7a31aa7655a9f1?ref=outlook-calendar
STATUS:CONFIRMED
SEQUENCE:3
BEGIN:VALARM
TRIGGER:-PT10M
DESCRIPTION:Class Reminder
ACTION:DISPLAY
END:VALARM
END:VEVENT
END:VCALENDAR