BEGIN:VCALENDAR
VERSION:2.0
CALSCALE:GREGORIAN
BEGIN:VEVENT
URL:https://www.learndesk.us/class/6586707916881920/lesson/67f96d2833e2fb3f3c539928dc283140?ref=outlook-calendar
SUMMARY:Video - Using the Clipboard and Multi-Paste Feature
DTSTART;TZID=America/Los_Angeles:20260421T190000
DTEND;TZID=America/Los_Angeles:20260421T200000
LOCATION:https://www.learndesk.us/class/6586707916881920/lesson/67f96d2833e2fb3f3c539928dc283140?ref=outlook-calendar
DESCRIPTION: In this short video presentation, you will learn how to use the clipboard and multi-paste feature in Microsoft Word 2016.

https://www.learndesk.us/class/6586707916881920/lesson/67f96d2833e2fb3f3c539928dc283140?ref=outlook-calendar
STATUS:CONFIRMED
SEQUENCE:3
BEGIN:VALARM
TRIGGER:-PT10M
DESCRIPTION:Class Reminder
ACTION:DISPLAY
END:VALARM
END:VEVENT
END:VCALENDAR