BEGIN:VCALENDAR
VERSION:2.0
CALSCALE:GREGORIAN
BEGIN:VEVENT
URL:https://www.learndesk.us/class/6586707916881920/lesson/5db3119abd3fb813b486ac07b9871173?ref=outlook-calendar
SUMMARY:Video - Using the File Open and Repair Feature
DTSTART;TZID=America/Los_Angeles:20260421T190000
DTEND;TZID=America/Los_Angeles:20260421T200000
LOCATION:https://www.learndesk.us/class/6586707916881920/lesson/5db3119abd3fb813b486ac07b9871173?ref=outlook-calendar
DESCRIPTION: This short video presentation, you will learn how to repair a corrupted file using the File Open and Repair feature in Microsoft word 2016.

https://www.learndesk.us/class/6586707916881920/lesson/5db3119abd3fb813b486ac07b9871173?ref=outlook-calendar
STATUS:CONFIRMED
SEQUENCE:3
BEGIN:VALARM
TRIGGER:-PT10M
DESCRIPTION:Class Reminder
ACTION:DISPLAY
END:VALARM
END:VEVENT
END:VCALENDAR