BEGIN:VCALENDAR
VERSION:2.0
CALSCALE:GREGORIAN
BEGIN:VEVENT
URL:https://www.learndesk.us/class/6586707916881920/lesson/5c03164842b735eba7121c6b1d909a7f?ref=outlook-calendar
SUMMARY:Video - Perform Calulations in Microsoft Word 2016
DTSTART;TZID=America/Los_Angeles:20260421T190000
DTEND;TZID=America/Los_Angeles:20260421T200000
LOCATION:https://www.learndesk.us/class/6586707916881920/lesson/5c03164842b735eba7121c6b1d909a7f?ref=outlook-calendar
DESCRIPTION: In this short video presentation, you will learn how to perform calculations inside of Word 2016 with the use of a calculator or table.

https://www.learndesk.us/class/6586707916881920/lesson/5c03164842b735eba7121c6b1d909a7f?ref=outlook-calendar
STATUS:CONFIRMED
SEQUENCE:3
BEGIN:VALARM
TRIGGER:-PT10M
DESCRIPTION:Class Reminder
ACTION:DISPLAY
END:VALARM
END:VEVENT
END:VCALENDAR