BEGIN:VCALENDAR
VERSION:2.0
CALSCALE:GREGORIAN
BEGIN:VEVENT
URL:https://www.learndesk.us/class/6586707916881920/lesson/5399b1529b0f39e5729c16b26215aec3?ref=outlook-calendar
SUMMARY:Video - Open and Save a New Microsoft Word 2016 Document
DTSTART;TZID=America/Los_Angeles:20260421T190000
DTEND;TZID=America/Los_Angeles:20260421T200000
LOCATION:https://www.learndesk.us/class/6586707916881920/lesson/5399b1529b0f39e5729c16b26215aec3?ref=outlook-calendar
DESCRIPTION: In this short video presentation, you will learn how to open and save a Microsoft Word 2016 document.

https://www.learndesk.us/class/6586707916881920/lesson/5399b1529b0f39e5729c16b26215aec3?ref=outlook-calendar
STATUS:CONFIRMED
SEQUENCE:3
BEGIN:VALARM
TRIGGER:-PT10M
DESCRIPTION:Class Reminder
ACTION:DISPLAY
END:VALARM
END:VEVENT
END:VCALENDAR