BEGIN:VCALENDAR
VERSION:2.0
CALSCALE:GREGORIAN
BEGIN:VEVENT
URL:https://www.learndesk.us/class/6586707916881920/lesson/4ce5928b6583536d936806706f7ef7f0?ref=outlook-calendar
SUMMARY:Video  - Course Overview
DTSTART;TZID=America/Los_Angeles:20260421T190000
DTEND;TZID=America/Los_Angeles:20260421T200000
LOCATION:https://www.learndesk.us/class/6586707916881920/lesson/4ce5928b6583536d936806706f7ef7f0?ref=outlook-calendar
DESCRIPTION: A quick overview of what to expect in the course.

https://www.learndesk.us/class/6586707916881920/lesson/4ce5928b6583536d936806706f7ef7f0?ref=outlook-calendar
STATUS:CONFIRMED
SEQUENCE:3
BEGIN:VALARM
TRIGGER:-PT10M
DESCRIPTION:Class Reminder
ACTION:DISPLAY
END:VALARM
END:VEVENT
END:VCALENDAR