BEGIN:VCALENDAR
VERSION:2.0
CALSCALE:GREGORIAN
BEGIN:VEVENT
URL:https://www.learndesk.us/class/6586707916881920/lesson/4bef12056afea2353741cfc9b10a21cb?ref=outlook-calendar
SUMMARY:Video - Edit a PDF Document Using Word 2016
DTSTART;TZID=America/Los_Angeles:20260421T190000
DTEND;TZID=America/Los_Angeles:20260421T200000
LOCATION:https://www.learndesk.us/class/6586707916881920/lesson/4bef12056afea2353741cfc9b10a21cb?ref=outlook-calendar
DESCRIPTION: In this short video presentation, you will learn how to edit a PDF file using your Word 2016 program.

https://www.learndesk.us/class/6586707916881920/lesson/4bef12056afea2353741cfc9b10a21cb?ref=outlook-calendar
STATUS:CONFIRMED
SEQUENCE:3
BEGIN:VALARM
TRIGGER:-PT10M
DESCRIPTION:Class Reminder
ACTION:DISPLAY
END:VALARM
END:VEVENT
END:VCALENDAR