BEGIN:VCALENDAR
VERSION:2.0
CALSCALE:GREGORIAN
BEGIN:VEVENT
URL:https://www.learndesk.us/class/6586707916881920/lesson/46ef64f3e4843fbc71a14f0ae97082ed?ref=outlook-calendar
SUMMARY:Video - Using Smart Lookup in word 2016
DTSTART;TZID=America/Los_Angeles:20260421T190000
DTEND;TZID=America/Los_Angeles:20260421T200000
LOCATION:https://www.learndesk.us/class/6586707916881920/lesson/46ef64f3e4843fbc71a14f0ae97082ed?ref=outlook-calendar
DESCRIPTION: In this short video presentation, you will learn how to use the new Word 2016 feature called Smart Lookup.

https://www.learndesk.us/class/6586707916881920/lesson/46ef64f3e4843fbc71a14f0ae97082ed?ref=outlook-calendar
STATUS:CONFIRMED
SEQUENCE:3
BEGIN:VALARM
TRIGGER:-PT10M
DESCRIPTION:Class Reminder
ACTION:DISPLAY
END:VALARM
END:VEVENT
END:VCALENDAR