BEGIN:VCALENDAR
VERSION:2.0
CALSCALE:GREGORIAN
BEGIN:VEVENT
URL:https://www.learndesk.us/class/6586707916881920/lesson/3f9a902af5f686e24db561b66874eb82?ref=outlook-calendar
SUMMARY:Video - Insert and move a picture in Word 2016
DTSTART;TZID=America/Los_Angeles:20260421T190000
DTEND;TZID=America/Los_Angeles:20260421T200000
LOCATION:https://www.learndesk.us/class/6586707916881920/lesson/3f9a902af5f686e24db561b66874eb82?ref=outlook-calendar
DESCRIPTION: In this short video presentation,  you will learn how to insert a movie or a picture into Word 2016.

https://www.learndesk.us/class/6586707916881920/lesson/3f9a902af5f686e24db561b66874eb82?ref=outlook-calendar
STATUS:CONFIRMED
SEQUENCE:3
BEGIN:VALARM
TRIGGER:-PT10M
DESCRIPTION:Class Reminder
ACTION:DISPLAY
END:VALARM
END:VEVENT
END:VCALENDAR