BEGIN:VCALENDAR
VERSION:2.0
CALSCALE:GREGORIAN
BEGIN:VEVENT
URL:https://www.learndesk.us/class/6586707916881920/lesson/3651663f5e0e8302033d763d334d6fae?ref=outlook-calendar
SUMMARY:Video - How to Use Bookmarks in Word 2016
DTSTART;TZID=America/Los_Angeles:20260425T190000
DTEND;TZID=America/Los_Angeles:20260425T200000
LOCATION:https://www.learndesk.us/class/6586707916881920/lesson/3651663f5e0e8302033d763d334d6fae?ref=outlook-calendar
DESCRIPTION: In this short video presentation, you will learn how to use bookmarks to quickly find an item within your Microsoft Word 2016 document.

https://www.learndesk.us/class/6586707916881920/lesson/3651663f5e0e8302033d763d334d6fae?ref=outlook-calendar
STATUS:CONFIRMED
SEQUENCE:3
BEGIN:VALARM
TRIGGER:-PT10M
DESCRIPTION:Class Reminder
ACTION:DISPLAY
END:VALARM
END:VEVENT
END:VCALENDAR