BEGIN:VCALENDAR
VERSION:2.0
CALSCALE:GREGORIAN
BEGIN:VEVENT
URL:https://www.learndesk.us/class/6586707916881920/lesson/2db048b3da3151ccaba0e0bd86551d9d?ref=outlook-calendar
SUMMARY:Video - Create a Document Using a Microsoft Template
DTSTART;TZID=America/Los_Angeles:20260421T190000
DTEND;TZID=America/Los_Angeles:20260421T200000
LOCATION:https://www.learndesk.us/class/6586707916881920/lesson/2db048b3da3151ccaba0e0bd86551d9d?ref=outlook-calendar
DESCRIPTION: In this short video presentation, you will learn how to create a document using one of the many free templates available in Word 2016.

https://www.learndesk.us/class/6586707916881920/lesson/2db048b3da3151ccaba0e0bd86551d9d?ref=outlook-calendar
STATUS:CONFIRMED
SEQUENCE:3
BEGIN:VALARM
TRIGGER:-PT10M
DESCRIPTION:Class Reminder
ACTION:DISPLAY
END:VALARM
END:VEVENT
END:VCALENDAR