BEGIN:VCALENDAR
VERSION:2.0
CALSCALE:GREGORIAN
BEGIN:VEVENT
URL:https://www.learndesk.us/class/6586707916881920/lesson/15aed252700436a00f947494c35a1a09?ref=outlook-calendar
SUMMARY:Video - Tips & Tricks for Word 2016
DTSTART;TZID=America/Los_Angeles:20260421T190000
DTEND;TZID=America/Los_Angeles:20260421T200000
LOCATION:https://www.learndesk.us/class/6586707916881920/lesson/15aed252700436a00f947494c35a1a09?ref=outlook-calendar
DESCRIPTION: In this short video presentation, you will be shown a number of very short tips and tricks you can use to help maximize your utilization while using Word 2016. Many of these tips and tricks are cross-program and will work in Excel and PowerPoint as well.

https://www.learndesk.us/class/6586707916881920/lesson/15aed252700436a00f947494c35a1a09?ref=outlook-calendar
STATUS:CONFIRMED
SEQUENCE:3
BEGIN:VALARM
TRIGGER:-PT10M
DESCRIPTION:Class Reminder
ACTION:DISPLAY
END:VALARM
END:VEVENT
END:VCALENDAR