BEGIN:VCALENDAR
VERSION:2.0
CALSCALE:GREGORIAN
BEGIN:VEVENT
URL:https://www.learndesk.us/class/6586707916881920/lesson/000ae0c78f490290f5e3288733e1736b?ref=outlook-calendar
SUMMARY:Video - Repair or Reinstall the Microsoft Office Word 2016
DTSTART;TZID=America/Los_Angeles:20260421T190000
DTEND;TZID=America/Los_Angeles:20260421T200000
LOCATION:https://www.learndesk.us/class/6586707916881920/lesson/000ae0c78f490290f5e3288733e1736b?ref=outlook-calendar
DESCRIPTION: In this short video presentation, you will learn how to repair or if needed reinstall Microsoft Word 2016.

https://www.learndesk.us/class/6586707916881920/lesson/000ae0c78f490290f5e3288733e1736b?ref=outlook-calendar
STATUS:CONFIRMED
SEQUENCE:3
BEGIN:VALARM
TRIGGER:-PT10M
DESCRIPTION:Class Reminder
ACTION:DISPLAY
END:VALARM
END:VEVENT
END:VCALENDAR