BEGIN:VCALENDAR
VERSION:2.0
CALSCALE:GREGORIAN
BEGIN:VEVENT
URL:https://www.learndesk.us/class/6557394681200640/lesson/fb3c5f2aff0ddb5e37152e231748174c?ref=outlook-calendar
SUMMARY:Custom shortcut and tablet keys
DTSTART;TZID=America/Los_Angeles:20260420T190000
DTEND;TZID=America/Los_Angeles:20260420T200000
LOCATION:https://www.learndesk.us/class/6557394681200640/lesson/fb3c5f2aff0ddb5e37152e231748174c?ref=outlook-calendar
DESCRIPTION: https://www.learndesk.us/class/6557394681200640/lesson/fb3c5f2aff0ddb5e37152e231748174c?ref=outlook-calendar
STATUS:CONFIRMED
SEQUENCE:3
BEGIN:VALARM
TRIGGER:-PT10M
DESCRIPTION:Class Reminder
ACTION:DISPLAY
END:VALARM
END:VEVENT
END:VCALENDAR