BEGIN:VCALENDAR
VERSION:2.0
CALSCALE:GREGORIAN
BEGIN:VEVENT
URL:https://www.learndesk.us/class/6557394681200640/lesson/d75264675ad09c1efaada3458e0242a5?ref=outlook-calendar
SUMMARY:Environment textures
DTSTART;TZID=America/Los_Angeles:20260420T190000
DTEND;TZID=America/Los_Angeles:20260420T200000
LOCATION:https://www.learndesk.us/class/6557394681200640/lesson/d75264675ad09c1efaada3458e0242a5?ref=outlook-calendar
DESCRIPTION: https://www.learndesk.us/class/6557394681200640/lesson/d75264675ad09c1efaada3458e0242a5?ref=outlook-calendar
STATUS:CONFIRMED
SEQUENCE:3
BEGIN:VALARM
TRIGGER:-PT10M
DESCRIPTION:Class Reminder
ACTION:DISPLAY
END:VALARM
END:VEVENT
END:VCALENDAR