BEGIN:VCALENDAR
VERSION:2.0
CALSCALE:GREGORIAN
BEGIN:VEVENT
URL:https://www.learndesk.us/class/6557394681200640/lesson/3f2678a9db2361fbd85c7cc2b31adc5a?ref=outlook-calendar
SUMMARY:Wrap-around mode
DTSTART;TZID=America/Los_Angeles:20260420T190000
DTEND;TZID=America/Los_Angeles:20260420T200000
LOCATION:https://www.learndesk.us/class/6557394681200640/lesson/3f2678a9db2361fbd85c7cc2b31adc5a?ref=outlook-calendar
DESCRIPTION: https://www.learndesk.us/class/6557394681200640/lesson/3f2678a9db2361fbd85c7cc2b31adc5a?ref=outlook-calendar
STATUS:CONFIRMED
SEQUENCE:3
BEGIN:VALARM
TRIGGER:-PT10M
DESCRIPTION:Class Reminder
ACTION:DISPLAY
END:VALARM
END:VEVENT
END:VCALENDAR