BEGIN:VCALENDAR
VERSION:2.0
CALSCALE:GREGORIAN
BEGIN:VEVENT
URL:https://www.learndesk.us/class/6557394681200640/digital-painting-with-krita-intermediate-level?ref=outlook-calendar
SUMMARY:Digital Painting with Krita: Intermediate Level
DTSTART;TZID=America/Los_Angeles:20260420T190000
DTEND;TZID=America/Los_Angeles:20260420T200000
LOCATION:https://www.learndesk.us/class/6557394681200640/digital-painting-with-krita-intermediate-level?ref=outlook-calendar
DESCRIPTION: Krita is a graphics application comparable to Photoshop, Gimp, CorelPainter, etc. But unlike Photoshop, Krita is free and open-source. So anyone can use Krita without having to pay anything for the software license. Krita was built from the ground up as a digital painting software first in mind. That is why if you want to create drawing or illustration, Krita will me make you feel right at home.
This course is the second course in the Krita course series. It is the continuation of the basic course “Digital Painting with Krita: Basic Level”. If you have never used Krita before, then I strongly suggest that you take the basic course first before taking this one so that you can follow the lessons without any problem.
What will you learn in this course?
We will cover a lot of things in this course. First, we will focus on advanced selection techniques. We will learn how to modify the selection. Learn about different selection operations. Learn how to transform an existing selection....

https://www.learndesk.us/class/6557394681200640/digital-painting-with-krita-intermediate-level?ref=outlook-calendar
STATUS:CONFIRMED
SEQUENCE:3
BEGIN:VALARM
TRIGGER:-PT10M
DESCRIPTION:Class Reminder
ACTION:DISPLAY
END:VALARM
END:VEVENT
END:VCALENDAR