BEGIN:VCALENDAR
VERSION:2.0
CALSCALE:GREGORIAN
BEGIN:VEVENT
URL:https://www.learndesk.us/class/6545585546985472/lesson/c8f56631c11bdee2d993715e058ae87c?ref=outlook-calendar
SUMMARY:Resources
DTSTART;TZID=America/Los_Angeles:20260421T190000
DTEND;TZID=America/Los_Angeles:20260421T200000
LOCATION:https://www.learndesk.us/class/6545585546985472/lesson/c8f56631c11bdee2d993715e058ae87c?ref=outlook-calendar
DESCRIPTION: https://www.learndesk.us/class/6545585546985472/lesson/c8f56631c11bdee2d993715e058ae87c?ref=outlook-calendar
STATUS:CONFIRMED
SEQUENCE:3
BEGIN:VALARM
TRIGGER:-PT10M
DESCRIPTION:Class Reminder
ACTION:DISPLAY
END:VALARM
END:VEVENT
END:VCALENDAR