BEGIN:VCALENDAR
VERSION:2.0
CALSCALE:GREGORIAN
BEGIN:VEVENT
URL:https://www.learndesk.us/class/6535929827164160/lesson/dc11f5438cf1668e0ce967afa84f8aa7?ref=outlook-calendar
SUMMARY:Customizing Number Formats
DTSTART;TZID=America/Los_Angeles:20260420T190000
DTEND;TZID=America/Los_Angeles:20260420T200000
LOCATION:https://www.learndesk.us/class/6535929827164160/lesson/dc11f5438cf1668e0ce967afa84f8aa7?ref=outlook-calendar
DESCRIPTION: https://www.learndesk.us/class/6535929827164160/lesson/dc11f5438cf1668e0ce967afa84f8aa7?ref=outlook-calendar
STATUS:CONFIRMED
SEQUENCE:3
BEGIN:VALARM
TRIGGER:-PT10M
DESCRIPTION:Class Reminder
ACTION:DISPLAY
END:VALARM
END:VEVENT
END:VCALENDAR